Workbook

Sheet Ülevaade mudelist
B2: Toidu tooraine ja toitlustusteenuse keskkonnahoidlike riigihangete kriteeriumide mudeli ülevaade
B3: Ettepanek kohustuslike ja soovituslike keskkonnahoiu kriteeriumide kehtestamiseks avaliku sektori asutustele alates 2027 ja 2030.
B5: MUDELI ULATUS | D5: MILLELE KEHTIVAD | H5: KASUTUS HANKES
B6: =COUNTA(Üldmudel!A2:A48) -> 47 | D6: =COUNTIF(Üldmudel!$B$2:$B$48,"Toit") -> 8 | E6: =COUNTIF(Üldmudel!$B$2:$B$48,"Teenus") -> 28 | F6: =COUNTIF(Üldmudel!$B$2:$B$48,"Toit + teenus") -> 11 | H6: =COUNTIF(Üldmudel!$E$2:$E$48,"Tehnilise kirjelduse nõue") -> 34 | I6: =COUNTIF(Üldmudel!$E$2:$E$48,"Hindamiskriteerium") -> 9 | J6: =COUNTIF(Üldmudel!$E$2:$E$48,"Tehnilise kirjelduse nõue/ hindamiskriteerium") -> 3
B7: kriteeriumi kokku | D7: Ainult toiduhange | E7: Ainult toitlustusteenus | F7: Nii toit kui teenus | H7: Tehnilise kirjelduse nõue | I7: Hindamiskriteerium | J7: Mõlemad (tehnilise kirjelduse nõue või hindamiskriteerium)
B9: 1. Kohalduvad kriteeriumid sihtrühmade lõikes – kohustuslik vs soovituslik, algusaasta
B10: Sihtrühm | C10: Kohustuslik alates 2027 | D10: Soovituslik alates 2027 | E10: Kohustuslik alates 2030 | F10: Soovituslik alates 2030 | G10: Kohaldub kokku
B11: Lasteaiad | C11: =COUNTIF(Üldmudel!F$2:F$48,"*K27*") -> 13 | D11: =COUNTIFS(Üldmudel!F$2:F$48,"*S27*",Üldmudel!F$2:F$48,"<>*K30*") -> 15 | E11: =COUNTIF(Üldmudel!F$2:F$48,"*K30*") -> 3 | F11: =COUNTIF(Üldmudel!F$2:F$48,"*S30*") -> 3 | G11: =SUM(C11:F11) -> 34
B12: Koolid | C12: =COUNTIF(Üldmudel!G$2:G$48,"*K27*") -> 15 | D12: =COUNTIFS(Üldmudel!G$2:G$48,"*S27*",Üldmudel!G$2:G$48,"<>*K30*") -> 16 | E12: =COUNTIF(Üldmudel!G$2:G$48,"*K30*") -> 3 | F12: =COUNTIF(Üldmudel!G$2:G$48,"*S30*") -> 3 | G12: =SUM(C12:F12) -> 37
B13: Haiglad | C13: =COUNTIF(Üldmudel!H$2:H$48,"*K27*") -> 8 | D13: =COUNTIFS(Üldmudel!H$2:H$48,"*S27*",Üldmudel!H$2:H$48,"<>*K30*") -> 18 | E13: =COUNTIF(Üldmudel!H$2:H$48,"*K30*") -> 3 | F13: =COUNTIF(Üldmudel!H$2:H$48,"*S30*") -> 4 | G13: =SUM(C13:F13) -> 33
B14: Hooldekodud | C14: =COUNTIF(Üldmudel!I$2:I$48,"*K27*") -> 7 | D14: =COUNTIFS(Üldmudel!I$2:I$48,"*S27*",Üldmudel!I$2:I$48,"<>*K30*") -> 14 | E14: =COUNTIF(Üldmudel!I$2:I$48,"*K30*") -> 3 | F14: =COUNTIF(Üldmudel!I$2:I$48,"*S30*") -> 3 | G14: =SUM(C14:F14) -> 27
B15: Kinnipidamisasutused | C15: =COUNTIF(Üldmudel!J$2:J$48,"*K27*") -> 2 | D15: =COUNTIFS(Üldmudel!J$2:J$48,"*S27*",Üldmudel!J$2:J$48,"<>*K30*") -> 6 | E15: =COUNTIF(Üldmudel!J$2:J$48,"*K30*") -> 0 | F15: =COUNTIF(Üldmudel!J$2:J$48,"*S30*") -> 5 | G15: =SUM(C15:F15) -> 13
B16: Kaitsevägi | C16: =COUNTIF(Üldmudel!K$2:K$48,"*K27*") -> 7 | D16: =COUNTIFS(Üldmudel!K$2:K$48,"*S27*",Üldmudel!K$2:K$48,"<>*K30*") -> 19 | E16: =COUNTIF(Üldmudel!K$2:K$48,"*K30*") -> 5 | F16: =COUNTIF(Üldmudel!K$2:K$48,"*S30*") -> 5 | G16: =SUM(C16:F16) -> 36
B17: Muud riigiasutused | C17: =COUNTIF(Üldmudel!L$2:L$48,"*K27*") -> 12 | D17: =COUNTIFS(Üldmudel!L$2:L$48,"*S27*",Üldmudel!L$2:L$48,"<>*K30*") -> 15 | E17: =COUNTIF(Üldmudel!L$2:L$48,"*K30*") -> 4 | F17: =COUNTIF(Üldmudel!L$2:L$48,"*S30*") -> 4 | G17: =SUM(C17:F17) -> 35
B20: Teemade kaetus – kohalduvate kriteeriumide arv teemade ja sihtrühmade lõikes
B21: Kategooria (üldmudeli veerg C) | C21: Kriteeriume mudelis | D21: Lasteaiad | E21: Koolid | F21: Haiglad | G21: Hooldekodud | H21: Kinnipidamis-asutused | I21: Kaitsevägi | J21: Muud riigiasutused
B22: Mahetooraine | C22: =COUNTIF(Üldmudel!$C$2:$C$48,"*"&$B22&"*") -> 3 | D22: {=SUMPRODUCT(ISNUMBER(SEARCH($B22,Üldmudel!$C$2:$C$48))*((ISNUMBER(SEARCH("27",Üldmudel!F$2:F$48))+ISNUMBER(SEARCH("30",Üldmudel!F$2:F$48)))>0))} -> 2 | E22: {=SUMPRODUCT(ISNUMBER(SEARCH($B22,Üldmudel!$C$2:$C$48))*((ISNUMBER(SEARCH("27",Üldmudel!G$2:G$48))+ISNUMBER(SEARCH("30",Üldmudel!G$2:G$48)))>0))} -> 2 | F22: {=SUMPRODUCT(ISNUMBER(SEARCH($B22,Üldmudel!$C$2:$C$48))*((ISNUMBER(SEARCH("27",Üldmudel!H$2:H$48))+ISNUMBER(SEARCH("30",Üldmudel!H$2:H$48)))>0))} -> 3 | G22: {=SUMPRODUCT(ISNUMBER(SEARCH($B22,Üldmudel!$C$2:$C$48))*((ISNUMBER(SEARCH("27",Üldmudel!I$2:I$48))+ISNUMBER(SEARCH("30",Üldmudel!I$2:I$48)))>0))} -> 2 | H22: {=SUMPRODUCT(ISNUMBER(SEARCH($B22,Üldmudel!$C$2:$C$48))*((ISNUMBER(SEARCH("27",Üldmudel!J$2:J$48))+ISNUMBER(SEARCH("30",Üldmudel!J$2:J$48)))>0))} -> 0 | I22: {=SUMPRODUCT(ISNUMBER(SEARCH($B22,Üldmudel!$C$2:$C$48))*((ISNUMBER(SEARCH("27",Üldmudel!K$2:K$48))+ISNUMBER(SEARCH("30",Üldmudel!K$2:K$48)))>0))} -> 3 | J22: {=SUMPRODUCT(ISNUMBER(SEARCH($B22,Üldmudel!$C$2:$C$48))*((ISNUMBER(SEARCH("27",Üldmudel!L$2:L$48))+ISNUMBER(SEARCH("30",Üldmudel!L$2:L$48)))>0))} -> 2
B23: Taimetoit | C23: =COUNTIF(Üldmudel!$C$2:$C$48,"*"&$B23&"*") -> 7 | D23: {=SUMPRODUCT(ISNUMBER(SEARCH($B23,Üldmudel!$C$2:$C$48))*((ISNUMBER(SEARCH("27",Üldmudel!F$2:F$48))+ISNUMBER(SEARCH("30",Üldmudel!F$2:F$48)))>0))} -> 2 | E23: {=SUMPRODUCT(ISNUMBER(SEARCH($B23,Üldmudel!$C$2:$C$48))*((ISNUMBER(SEARCH("27",Üldmudel!G$2:G$48))+ISNUMBER(SEARCH("30",Üldmudel!G$2:G$48)))>0))} -> 3 | F23: {=SUMPRODUCT(ISNUMBER(SEARCH($B23,Üldmudel!$C$2:$C$48))*((ISNUMBER(SEARCH("27",Üldmudel!H$2:H$48))+ISNUMBER(SEARCH("30",Üldmudel!H$2:H$48)))>0))} -> 3 | G23: {=SUMPRODUCT(ISNUMBER(SEARCH($B23,Üldmudel!$C$2:$C$48))*((ISNUMBER(SEARCH("27",Üldmudel!I$2:I$48))+ISNUMBER(SEARCH("30",Üldmudel!I$2:I$48)))>0))} -> 2 | H23: {=SUMPRODUCT(ISNUMBER(SEARCH($B23,Üldmudel!$C$2:$C$48))*((ISNUMBER(SEARCH("27",Üldmudel!J$2:J$48))+ISNUMBER(SEARCH("30",Üldmudel!J$2:J$48)))>0))} -> 0 | I23: {=SUMPRODUCT(ISNUMBER(SEARCH($B23,Üldmudel!$C$2:$C$48))*((ISNUMBER(SEARCH("27",Üldmudel!K$2:K$48))+ISNUMBER(SEARCH("30",Üldmudel!K$2:K$48)))>0))} -> 4 | J23: {=SUMPRODUCT(ISNUMBER(SEARCH($B23,Üldmudel!$C$2:$C$48))*((ISNUMBER(SEARCH("27",Üldmudel!L$2:L$48))+ISNUMBER(SEARCH("30",Üldmudel!L$2:L$48)))>0))} -> 4
B24: Lühike tarneteekond | C24: =COUNTIF(Üldmudel!$C$2:$C$48,"*"&$B24&"*") -> 5 | D24: {=SUMPRODUCT(ISNUMBER(SEARCH($B24,Üldmudel!$C$2:$C$48))*((ISNUMBER(SEARCH("27",Üldmudel!F$2:F$48))+ISNUMBER(SEARCH("30",Üldmudel!F$2:F$48)))>0))} -> 5 | E24: {=SUMPRODUCT(ISNUMBER(SEARCH($B24,Üldmudel!$C$2:$C$48))*((ISNUMBER(SEARCH("27",Üldmudel!G$2:G$48))+ISNUMBER(SEARCH("30",Üldmudel!G$2:G$48)))>0))} -> 5 | F24: {=SUMPRODUCT(ISNUMBER(SEARCH($B24,Üldmudel!$C$2:$C$48))*((ISNUMBER(SEARCH("27",Üldmudel!H$2:H$48))+ISNUMBER(SEARCH("30",Üldmudel!H$2:H$48)))>0))} -> 5 | G24: {=SUMPRODUCT(ISNUMBER(SEARCH($B24,Üldmudel!$C$2:$C$48))*((ISNUMBER(SEARCH("27",Üldmudel!I$2:I$48))+ISNUMBER(SEARCH("30",Üldmudel!I$2:I$48)))>0))} -> 5 | H24: {=SUMPRODUCT(ISNUMBER(SEARCH($B24,Üldmudel!$C$2:$C$48))*((ISNUMBER(SEARCH("27",Üldmudel!J$2:J$48))+ISNUMBER(SEARCH("30",Üldmudel!J$2:J$48)))>0))} -> 5 | I24: {=SUMPRODUCT(ISNUMBER(SEARCH($B24,Üldmudel!$C$2:$C$48))*((ISNUMBER(SEARCH("27",Üldmudel!K$2:K$48))+ISNUMBER(SEARCH("30",Üldmudel!K$2:K$48)))>0))} -> 5 | J24: {=SUMPRODUCT(ISNUMBER(SEARCH($B24,Üldmudel!$C$2:$C$48))*((ISNUMBER(SEARCH("27",Üldmudel!L$2:L$48))+ISNUMBER(SEARCH("30",Üldmudel!L$2:L$48)))>0))} -> 5
B25: Tootmisviis | C25: =COUNTIF(Üldmudel!$C$2:$C$48,"*"&$B25&"*") -> 8 | D25: {=SUMPRODUCT(ISNUMBER(SEARCH($B25,Üldmudel!$C$2:$C$48))*((ISNUMBER(SEARCH("27",Üldmudel!F$2:F$48))+ISNUMBER(SEARCH("30",Üldmudel!F$2:F$48)))>0))} -> 8 | E25: {=SUMPRODUCT(ISNUMBER(SEARCH($B25,Üldmudel!$C$2:$C$48))*((ISNUMBER(SEARCH("27",Üldmudel!G$2:G$48))+ISNUMBER(SEARCH("30",Üldmudel!G$2:G$48)))>0))} -> 8 | F25: {=SUMPRODUCT(ISNUMBER(SEARCH($B25,Üldmudel!$C$2:$C$48))*((ISNUMBER(SEARCH("27",Üldmudel!H$2:H$48))+ISNUMBER(SEARCH("30",Üldmudel!H$2:H$48)))>0))} -> 8 | G25: {=SUMPRODUCT(ISNUMBER(SEARCH($B25,Üldmudel!$C$2:$C$48))*((ISNUMBER(SEARCH("27",Üldmudel!I$2:I$48))+ISNUMBER(SEARCH("30",Üldmudel!I$2:I$48)))>0))} -> 6 | H25: {=SUMPRODUCT(ISNUMBER(SEARCH($B25,Üldmudel!$C$2:$C$48))*((ISNUMBER(SEARCH("27",Üldmudel!J$2:J$48))+ISNUMBER(SEARCH("30",Üldmudel!J$2:J$48)))>0))} -> 4 | I25: {=SUMPRODUCT(ISNUMBER(SEARCH($B25,Üldmudel!$C$2:$C$48))*((ISNUMBER(SEARCH("27",Üldmudel!K$2:K$48))+ISNUMBER(SEARCH("30",Üldmudel!K$2:K$48)))>0))} -> 7 | J25: {=SUMPRODUCT(ISNUMBER(SEARCH($B25,Üldmudel!$C$2:$C$48))*((ISNUMBER(SEARCH("27",Üldmudel!L$2:L$48))+ISNUMBER(SEARCH("30",Üldmudel!L$2:L$48)))>0))} -> 8
B26: Õiglane kaubandus | C26: =COUNTIF(Üldmudel!$C$2:$C$48,"*"&$B26&"*") -> 3 | D26: {=SUMPRODUCT(ISNUMBER(SEARCH($B26,Üldmudel!$C$2:$C$48))*((ISNUMBER(SEARCH("27",Üldmudel!F$2:F$48))+ISNUMBER(SEARCH("30",Üldmudel!F$2:F$48)))>0))} -> 1 | E26: {=SUMPRODUCT(ISNUMBER(SEARCH($B26,Üldmudel!$C$2:$C$48))*((ISNUMBER(SEARCH("27",Üldmudel!G$2:G$48))+ISNUMBER(SEARCH("30",Üldmudel!G$2:G$48)))>0))} -> 1 | F26: {=SUMPRODUCT(ISNUMBER(SEARCH($B26,Üldmudel!$C$2:$C$48))*((ISNUMBER(SEARCH("27",Üldmudel!H$2:H$48))+ISNUMBER(SEARCH("30",Üldmudel!H$2:H$48)))>0))} -> 3 | G26: {=SUMPRODUCT(ISNUMBER(SEARCH($B26,Üldmudel!$C$2:$C$48))*((ISNUMBER(SEARCH("27",Üldmudel!I$2:I$48))+ISNUMBER(SEARCH("30",Üldmudel!I$2:I$48)))>0))} -> 1 | H26: {=SUMPRODUCT(ISNUMBER(SEARCH($B26,Üldmudel!$C$2:$C$48))*((ISNUMBER(SEARCH("27",Üldmudel!J$2:J$48))+ISNUMBER(SEARCH("30",Üldmudel!J$2:J$48)))>0))} -> 1 | I26: {=SUMPRODUCT(ISNUMBER(SEARCH($B26,Üldmudel!$C$2:$C$48))*((ISNUMBER(SEARCH("27",Üldmudel!K$2:K$48))+ISNUMBER(SEARCH("30",Üldmudel!K$2:K$48)))>0))} -> 3 | J26: {=SUMPRODUCT(ISNUMBER(SEARCH($B26,Üldmudel!$C$2:$C$48))*((ISNUMBER(SEARCH("27",Üldmudel!L$2:L$48))+ISNUMBER(SEARCH("30",Üldmudel!L$2:L$48)))>0))} -> 3
B27: Ringsus | C27: =COUNTIF(Üldmudel!$C$2:$C$48,"*"&$B27&"*") -> 12 | D27: {=SUMPRODUCT(ISNUMBER(SEARCH($B27,Üldmudel!$C$2:$C$48))*((ISNUMBER(SEARCH("27",Üldmudel!F$2:F$48))+ISNUMBER(SEARCH("30",Üldmudel!F$2:F$48)))>0))} -> 8 | E27: {=SUMPRODUCT(ISNUMBER(SEARCH($B27,Üldmudel!$C$2:$C$48))*((ISNUMBER(SEARCH("27",Üldmudel!G$2:G$48))+ISNUMBER(SEARCH("30",Üldmudel!G$2:G$48)))>0))} -> 9 | F27: {=SUMPRODUCT(ISNUMBER(SEARCH($B27,Üldmudel!$C$2:$C$48))*((ISNUMBER(SEARCH("27",Üldmudel!H$2:H$48))+ISNUMBER(SEARCH("30",Üldmudel!H$2:H$48)))>0))} -> 5 | G27: {=SUMPRODUCT(ISNUMBER(SEARCH($B27,Üldmudel!$C$2:$C$48))*((ISNUMBER(SEARCH("27",Üldmudel!I$2:I$48))+ISNUMBER(SEARCH("30",Üldmudel!I$2:I$48)))>0))} -> 6 | H27: {=SUMPRODUCT(ISNUMBER(SEARCH($B27,Üldmudel!$C$2:$C$48))*((ISNUMBER(SEARCH("27",Üldmudel!J$2:J$48))+ISNUMBER(SEARCH("30",Üldmudel!J$2:J$48)))>0))} -> 2 | I27: {=SUMPRODUCT(ISNUMBER(SEARCH($B27,Üldmudel!$C$2:$C$48))*((ISNUMBER(SEARCH("27",Üldmudel!K$2:K$48))+ISNUMBER(SEARCH("30",Üldmudel!K$2:K$48)))>0))} -> 8 | J27: {=SUMPRODUCT(ISNUMBER(SEARCH($B27,Üldmudel!$C$2:$C$48))*((ISNUMBER(SEARCH("27",Üldmudel!L$2:L$48))+ISNUMBER(SEARCH("30",Üldmudel!L$2:L$48)))>0))} -> 6
B28: Energia | C28: =COUNTIF(Üldmudel!$C$2:$C$48,"*"&$B28&"*") -> 2 | D28: {=SUMPRODUCT(ISNUMBER(SEARCH($B28,Üldmudel!$C$2:$C$48))*((ISNUMBER(SEARCH("27",Üldmudel!F$2:F$48))+ISNUMBER(SEARCH("30",Üldmudel!F$2:F$48)))>0))} -> 2 | E28: {=SUMPRODUCT(ISNUMBER(SEARCH($B28,Üldmudel!$C$2:$C$48))*((ISNUMBER(SEARCH("27",Üldmudel!G$2:G$48))+ISNUMBER(SEARCH("30",Üldmudel!G$2:G$48)))>0))} -> 2 | F28: {=SUMPRODUCT(ISNUMBER(SEARCH($B28,Üldmudel!$C$2:$C$48))*((ISNUMBER(SEARCH("27",Üldmudel!H$2:H$48))+ISNUMBER(SEARCH("30",Üldmudel!H$2:H$48)))>0))} -> 2 | G28: {=SUMPRODUCT(ISNUMBER(SEARCH($B28,Üldmudel!$C$2:$C$48))*((ISNUMBER(SEARCH("27",Üldmudel!I$2:I$48))+ISNUMBER(SEARCH("30",Üldmudel!I$2:I$48)))>0))} -> 2 | H28: {=SUMPRODUCT(ISNUMBER(SEARCH($B28,Üldmudel!$C$2:$C$48))*((ISNUMBER(SEARCH("27",Üldmudel!J$2:J$48))+ISNUMBER(SEARCH("30",Üldmudel!J$2:J$48)))>0))} -> 1 | I28: {=SUMPRODUCT(ISNUMBER(SEARCH($B28,Üldmudel!$C$2:$C$48))*((ISNUMBER(SEARCH("27",Üldmudel!K$2:K$48))+ISNUMBER(SEARCH("30",Üldmudel!K$2:K$48)))>0))} -> 2 | J28: {=SUMPRODUCT(ISNUMBER(SEARCH($B28,Üldmudel!$C$2:$C$48))*((ISNUMBER(SEARCH("27",Üldmudel!L$2:L$48))+ISNUMBER(SEARCH("30",Üldmudel!L$2:L$48)))>0))} -> 2
B29: Päritolu läbipaistvus | C29: =COUNTIF(Üldmudel!$C$2:$C$48,"*"&$B29&"*") -> 1 | D29: {=SUMPRODUCT(ISNUMBER(SEARCH($B29,Üldmudel!$C$2:$C$48))*((ISNUMBER(SEARCH("27",Üldmudel!F$2:F$48))+ISNUMBER(SEARCH("30",Üldmudel!F$2:F$48)))>0))} -> 1 | E29: {=SUMPRODUCT(ISNUMBER(SEARCH($B29,Üldmudel!$C$2:$C$48))*((ISNUMBER(SEARCH("27",Üldmudel!G$2:G$48))+ISNUMBER(SEARCH("30",Üldmudel!G$2:G$48)))>0))} -> 1 | F29: {=SUMPRODUCT(ISNUMBER(SEARCH($B29,Üldmudel!$C$2:$C$48))*((ISNUMBER(SEARCH("27",Üldmudel!H$2:H$48))+ISNUMBER(SEARCH("30",Üldmudel!H$2:H$48)))>0))} -> 1 | G29: {=SUMPRODUCT(ISNUMBER(SEARCH($B29,Üldmudel!$C$2:$C$48))*((ISNUMBER(SEARCH("27",Üldmudel!I$2:I$48))+ISNUMBER(SEARCH("30",Üldmudel!I$2:I$48)))>0))} -> 1 | H29: {=SUMPRODUCT(ISNUMBER(SEARCH($B29,Üldmudel!$C$2:$C$48))*((ISNUMBER(SEARCH("27",Üldmudel!J$2:J$48))+ISNUMBER(SEARCH("30",Üldmudel!J$2:J$48)))>0))} -> 1 | I29: {=SUMPRODUCT(ISNUMBER(SEARCH($B29,Üldmudel!$C$2:$C$48))*((ISNUMBER(SEARCH("27",Üldmudel!K$2:K$48))+ISNUMBER(SEARCH("30",Üldmudel!K$2:K$48)))>0))} -> 1 | J29: {=SUMPRODUCT(ISNUMBER(SEARCH($B29,Üldmudel!$C$2:$C$48))*((ISNUMBER(SEARCH("27",Üldmudel!L$2:L$48))+ISNUMBER(SEARCH("30",Üldmudel!L$2:L$48)))>0))} -> 1
B30: Mitmekesisus | C30: =COUNTIF(Üldmudel!$C$2:$C$48,"*"&$B30&"*") -> 1 | D30: {=SUMPRODUCT(ISNUMBER(SEARCH($B30,Üldmudel!$C$2:$C$48))*((ISNUMBER(SEARCH("27",Üldmudel!F$2:F$48))+ISNUMBER(SEARCH("30",Üldmudel!F$2:F$48)))>0))} -> 1 | E30: {=SUMPRODUCT(ISNUMBER(SEARCH($B30,Üldmudel!$C$2:$C$48))*((ISNUMBER(SEARCH("27",Üldmudel!G$2:G$48))+ISNUMBER(SEARCH("30",Üldmudel!G$2:G$48)))>0))} -> 1 | F30: {=SUMPRODUCT(ISNUMBER(SEARCH($B30,Üldmudel!$C$2:$C$48))*((ISNUMBER(SEARCH("27",Üldmudel!H$2:H$48))+ISNUMBER(SEARCH("30",Üldmudel!H$2:H$48)))>0))} -> 1 | G30: {=SUMPRODUCT(ISNUMBER(SEARCH($B30,Üldmudel!$C$2:$C$48))*((ISNUMBER(SEARCH("27",Üldmudel!I$2:I$48))+ISNUMBER(SEARCH("30",Üldmudel!I$2:I$48)))>0))} -> 0 | H30: {=SUMPRODUCT(ISNUMBER(SEARCH($B30,Üldmudel!$C$2:$C$48))*((ISNUMBER(SEARCH("27",Üldmudel!J$2:J$48))+ISNUMBER(SEARCH("30",Üldmudel!J$2:J$48)))>0))} -> 0 | I30: {=SUMPRODUCT(ISNUMBER(SEARCH($B30,Üldmudel!$C$2:$C$48))*((ISNUMBER(SEARCH("27",Üldmudel!K$2:K$48))+ISNUMBER(SEARCH("30",Üldmudel!K$2:K$48)))>0))} -> 1 | J30: {=SUMPRODUCT(ISNUMBER(SEARCH($B30,Üldmudel!$C$2:$C$48))*((ISNUMBER(SEARCH("27",Üldmudel!L$2:L$48))+ISNUMBER(SEARCH("30",Üldmudel!L$2:L$48)))>0))} -> 1
B31: Muu | C31: =COUNTIF(Üldmudel!$C$2:$C$48,"*"&$B31&"*") -> 6 | D31: {=SUMPRODUCT(ISNUMBER(SEARCH($B31,Üldmudel!$C$2:$C$48))*((ISNUMBER(SEARCH("27",Üldmudel!F$2:F$48))+ISNUMBER(SEARCH("30",Üldmudel!F$2:F$48)))>0))} -> 5 | E31: {=SUMPRODUCT(ISNUMBER(SEARCH($B31,Üldmudel!$C$2:$C$48))*((ISNUMBER(SEARCH("27",Üldmudel!G$2:G$48))+ISNUMBER(SEARCH("30",Üldmudel!G$2:G$48)))>0))} -> 6 | F31: {=SUMPRODUCT(ISNUMBER(SEARCH($B31,Üldmudel!$C$2:$C$48))*((ISNUMBER(SEARCH("27",Üldmudel!H$2:H$48))+ISNUMBER(SEARCH("30",Üldmudel!H$2:H$48)))>0))} -> 3 | G31: {=SUMPRODUCT(ISNUMBER(SEARCH($B31,Üldmudel!$C$2:$C$48))*((ISNUMBER(SEARCH("27",Üldmudel!I$2:I$48))+ISNUMBER(SEARCH("30",Üldmudel!I$2:I$48)))>0))} -> 3 | H31: {=SUMPRODUCT(ISNUMBER(SEARCH($B31,Üldmudel!$C$2:$C$48))*((ISNUMBER(SEARCH("27",Üldmudel!J$2:J$48))+ISNUMBER(SEARCH("30",Üldmudel!J$2:J$48)))>0))} -> 0 | I31: {=SUMPRODUCT(ISNUMBER(SEARCH($B31,Üldmudel!$C$2:$C$48))*((ISNUMBER(SEARCH("27",Üldmudel!K$2:K$48))+ISNUMBER(SEARCH("30",Üldmudel!K$2:K$48)))>0))} -> 3 | J31: {=SUMPRODUCT(ISNUMBER(SEARCH($B31,Üldmudel!$C$2:$C$48))*((ISNUMBER(SEARCH("27",Üldmudel!L$2:L$48))+ISNUMBER(SEARCH("30",Üldmudel!L$2:L$48)))>0))} -> 4
B32: Sisaldab kohustuslikke | D32: Ainult soovituslikud | F32: Ei kohaldu
B34: Märkused tabeli osas
B35: • Tabelis märgitud kriteeriumid hõlmavad nii toidu tooraine hankeid kui ka toitlustusteenust ning neid saab kasutada tehnilise kirjelduse nõuete või hindamiskriteeriumidena.
B36: • Kriteerium 17 (Kaitsevägi) on soovituslik alates 2027 ja kohustuslik alates 2030 – arvestatud ühe korra veerus 'Kohustuslik alates 2030'.
B37: • Kriteeriumil 19 on liitteema (tootmisviis / lühike tarneteekond) ja see on arvestatud mõlemas teemareas, mistõttu teemade summa võib sihtrühma kogusummast ühe võrra erineda.
B38: Üldised märkused
B39: • Kohustuslikud (K27) kriteeriumid on mudeli alalehtedel märgitud paksus kirjas.
B40: Projekti rahastab Eesti riik heitkogustega kauplemise süsteemi enampakkumistulu vahenditest.

Sheet Üldmudel
A1: Nr | B1: Tooraine või toitlustusteenus | C1: Kriteeriumi kategooria | D1: Nõue/kriteerium | E1: Tehnilise kirjelduse nõue/ hindamiskriteerium | F1: Lasteaiad | G1: Koolid | H1: Haiglad | I1: Hoolde-kodud | J1: Kinnipidamis-asutused | K1: Kaitsevägi | L1: Muud riigiasutused | M1: Põhjendus lõplikule kriteeriumile | N1: Kontrollimehhanism/ põhimõte | O1: Kontrollija, kontrolli aeg ja tõendid | P1: Lingid registritele | Q1: Koondmõju (<0 = punane, 0–5 = kollane, 5+ = roheline)
A2: 1 | B2: Toit | C2: Mahetooraine | D2: Pakkuja tarnib tellijale EL ja Eesti mahenõuetele vastavat toorainet vastavalt tehnilises kirjelduses määratud osakaalule (20%). | E2: Tehnilise kirjelduse nõue | F2: K27 | G2: K27 | H2: S27 | I2: S27 | K2: S27 | M2: Tarnekindluse tagamiseks soovitame sisse kirjutada paindlikkusmehhanismi, et mahetoodangu kõrval võib tulevikus lubada ka kvaliteedikava alla kuuluvate tootjate toodangut. Tulenevalt turuanalüüsi tulemustest ei ole mahetoodangule võimalik seada nõudeid konkreetsete toorainegruppide lõikes (mahetoodangu pakkumine on lühiajalises perspektiivis võimalik veiseliha, tatra ja kaera puhul), seega soovitame 2027. aasta perspektiivis jätta mahenõude üldise mahetooraine osakaalu põhiseks. Nii toitlustajate, tootjate kui ekspertpaneeli hinnangul on mahetoorainet vähe või see on oluliselt kõrgema hinnaga (nt veiseliha). Mõjuhinnangu alusel võiks selle kriteeriumi kehtestada alates 2027. aastast koolides ja lasteaedades ning alates 2030. aastast teistes avaliku sektori asutustes (haiglates, hoolekandeasutustes, Kaitseväes ja muudes avaliku sektori asutustes). Suur negatiivne mõju oleks toidu hinnale (mediaan -3) ning keskmine negatiivne mõju tarnekindlusele ja halduskoormusele (mediaan -2). Tervisele oleks suur positiivne mõju (mediaan 3). Suur positiivne mõju oleks ka elurikkusele (mediaan 2,5). Loomade heaolule, kohalike tootjate tuludele ja põllumajandustootjate mitmekesisusele hinnati keskmine positiivne mõju (mediaan 2). Väike kuni keskmine positiivne mõju oleks töökohtade loomisele (mediaan 1,5). | N2: Mahetoodangu märgis; tulevikus lisaks kvaliteedikava alla kuuluvate toodete puhul: sertifikaat, vastavust tõendav dokument (kontrolli tulem) või töödeldud toote lõpptoote märgistus. | O2: Kontrollija: hankija. Aeg: pakkumuste hindamisel; lepingu ajal pisteliselt tarnete ja saatelehede alusel. Tõend: kehtiv mahetoodangu märgis / mahepõllumajanduse sertifikaat. Tulevikus lisaks kvaliteedikava alla kuuluvate toodete puhul sertifikaat, vastavust tõendav dokument (kontrolli tulem) või töödeldud toote lõpptoote märgistus. | P2: https://webgate.ec.europa.eu/tracesnt/directory/publication/organic-operator/index#!?sort=-issuedOn&countryCode=EE&showAdvancedSearch https://portaal.agri.ee/avalik/#/mahe | Q2: 6
A3: 2 | B3: Teenus | C3: Mahetooraine | D3: Pakkuja kasutab kogu hankelepingu vältel igapäevaseks toidu valmistamiseks kasutatavast kogu tooraine kogusest üle 20% mahepõllumajanduslikust tootmisest pärit toorainet. Kriteeriumi täitmise kontrollimiseks hangib pakkuja Põllumajandus- ja Toiduameti (PTA) väljastatava riikliku toitlustuse ökomärgi: „20-50% toorainest on mahe“ hiljemalt kuu aega pärast toitlustamise algust ning teavitab enne mahetoitlustamisega alustamist PTA-d. | E3: Tehnilise kirjelduse nõue | F3: K27 | G3: K27 | H3: S27 | I3: S27 | K3: S27 | L3: K27 | M3: Tarnekindluse tagamiseks soovitame sisse kirjutada paindlikkusmehhanismi, et mahetoodangu kõrval võib tulevikus lubada ka kvaliteedikava alla kuuluvate tootjate toodangut. Tulenevalt turuanalüüsi tulemustest ei ole mahetoodangule võimalik seada nõudeid konkreetsete toorainegruppide lõikes (mahetoodangu pakkumine on lühiajalises perspektiivis võimalik veiseliha, tatra ja kaera puhul), seega soovitame 2027. aasta perspektiivis jätta mahenõude üldise mahetooraine osakaalu põhiseks. Nii toitlustajate, tootjate kui ekspertpaneeli hinnangul on mahetoorainet vähe või see on oluliselt kõrgema hinnaga (nt veiseliha). Mõjuhinnangu alusel võiks selle kriteeriumi kehtestada alates 2027. aastast koolides ja lasteaedades ning alates 2030. aastast teistes avaliku sektori asutustes (haiglates, hoolekandeasutustes, Kaitseväes ja muudes avaliku sektori asutustes). Suur negatiivne mõju oleks toidu hinnale (mediaan -3) ning keskmine negatiivne mõju tarnekindlusele ja halduskoormusele (mediaan -2). Tervisele oleks suur positiivne mõju (mediaan 3). Suur positiivne mõju oleks ka elurikkusele (mediaan 2,5). Loomade heaolule, kohalike tootjate tuludele ja põllumajandustootjate mitmekesisusele hinnati keskmine positiivne mõju (mediaan 2). Väike kuni keskmine positiivne mõju oleks töökohtade loomisele (mediaan 1,5). | N3: Mahetoitlustuse märgis; tulevikus lisaks kvaliteedikava alla kuuluvate toodete puhul: sertifikaat, vastavust tõendav dokument (kontrolli tulem) või töödeldud toote lõpptoote märgistus. | O3: Kontrollija: hankija. Aeg: lepingu ajal – märgise taotlemine ühe kuu jooksul lepingu algusest, seejärel pisteliselt. Tõend: kehtiv riiklik toitlustuse ökomärgis „20–50% toorainest on mahe“. Paindlikkusmehhanismi puhul kasutada ökomärgise asemel tõendusmaterjalina pakkuja arvepidamist nõuetele vastavate toodete kohta ehk kvaliteedikava alla kuuluvate toodete puhul sertifikaat, vastavust tõendav dokument (kontrolli tulem) või töödeldud toote lõpptoote märgistus. | P3: https://jvis.agri.ee/jvis/avalik.html#/toitKaitlemisettevotedparing - käitlemisvaldkonnaks valida 'mahetoitlustamine' | Q3: 6
A4: 3 | B4: Teenus | C4: Taimetoit | D4: Pakkuja pakub kord nädalas ainult taimset põhitoitu, kus on vastavalt toitumissoovitustele tagatud piisava köögivilja ja valgu osakaal (nt kaunviljade pakkumise kaudu). Taimetoidu all mõeldakse toitu, kus peamine valguallikas on taimne. Taimetoit võib, aga ei pea sisaldama muna- ja piimatooteid. | E4: Tehnilise kirjelduse nõue | F4: K27 | G4: K27 | H4: S27 | I4: S27 | L4: S27 | M4: Taimset toorainet on koolidele, lasteaedadele ja muudele riigiasutustele kord nädalas ainsa põhitoiduna pakkumiseks piisavalt ja see on kergesti kättesaadav. Ekspertide hinnangul võiks kriteeriumi 2027. aastast kehtestada kõigile toitlustusteenust hankivatele sektoritele. Sihtrühmade vajaduste analüüsist lähtuvalt ei ole haiglate, Kaitseväe ja hooldekodude valmidust kriteeriumi kasutamiseks, seega soovitame kriteeriumi kohustuslikuna kehtestada alates 2027. aastast koolidele, lasteaedadele ja muule avalikule sektorile. 2030. aasta perspektiivis leidis ekspertpaneel, et haiglad ja koolid võiksid taimetoitu pakkuda igapäevaselt, Kaitsevägi ja muu avalik sektor mõned korrad nädalas ning lasteaiad ja hooldekodud 1x nädalas. Välistame haiglates igapäevaselt taimetoidu pakkumise kriteeriumi, kuna haiglates pakutakse vaid üht valikut ning patsiendid vahetuvad kiiresti, mis takistab järkjärgulist üleminekut taimetoidule. Kaitseväes ja muus avalikus sektoris soovitame 2030. aasta perspektiivis taimetoidu pakkumist suurendada mõne korrani nädalas. Kuna hooldekodudes on toitumisharjumusi raske muuta, ei soovita seal taimetoidu kriteeriumi kasutamist. Ekspertpaneeli hinnangul kaasneb kriteeriumiga keskmine positiivne mõju tervisele, elurikkusele, loomade heaolule ja põllumajandustootjate mitmekesisusele (mediaan 2). Väikest positiivset mõju nähakse kohalike tootjate tuludele ja töökohtade loomisele (mediaan 1). Tarnekindlusele ja halduskoormusele kaasneks väike negatiivne mõju (mediaan -1). | N4: Menüüde alusel + pisteline kohapealne kontroll asutuse esindajate poolt | O4: Kontrollija: hankija/asutuse esindaja. Aeg: lepingu ajal regulaarselt menüüde esitamisel; lisaks pisteline kohapealne kontroll. Tõend: menüüd ja retseptid; kohapealse kontrolli tulemus. | P4: N/A | Q4: 8
A5: 4 | B5: Toit + teenus | C5: Lühike tarneteekond/ hooajalisus | D5: 20% suvel ja sügisel (juunis, juulis, augustis, septembris, oktoobris, novembris) pakutavatest marjadest ja puuviljadest [toidukaupade loetelu määratleb avaliku sektori hankija soovitatavalt turu-uuringu alusel – nt marjad, õun, pirn ja ploom] peavad olema lühikese tarneteekonnaga (arvutatuna kõigi määratletud puuviljade ja marjade üldkogusest/väärtusest määratletud perioodil). Hankija määrab, kas osakaalu arvutatakse mahu või väärtuse alusel. Lühikese tarneteekonna all peab tellija silmas kuni 450 km teekonda maanteid pidi tellija asukohast. Pakkuja esitab pakkumuses kirjelduse toorainest, mille puhul ta tagab lühikese tarneteekonna, sh tarneteekonna pikkus ning kuidas ta seda tõendab. Toidutooraine hankimisel on võimalik lühikese tarneteekonnaga tooraine osakaalu arvutada loodava tööriista alusel. Lühikese tarnepiirkonna arvestus toimub köögiviljade, puuviljade, marjade, seemnete, juurviljade, kaunviljade ja kartuli osas sellest piirkonnast (väikseim võimalik haldusüksus), kus vastav taim ja/või selle viljad/seemned kasvasid ja teraviljatoodete puhul piirkonnast, kus toode valmistati. Lühike tarneteekond võib olla pikem juhul, kui toiduaineid ei ole võimalik soetada keskkondlikust, majanduslikust või epideemilisest olukorrast lähtuvalt ning teenuse osutaja on selliste asenduseks valitud toiduained ning selle kasutamise eelnevalt hankijaga kokku leppinud. | E5: Tehnilise kirjelduse nõue | F5: K30 | G5: K30 | H5: K30 | I5: K30 | J5: S30 | K5: K30 | L5: K30 | M5: Selleks, et 450 km teekonna ja osakaalu arvutamise nõue oleks hankijatele ja pakkujatele väiksema halduskoormusega, on vaja välja töötada ühtne lühikese tarneteekonnaga toodete osakaalu arvutamise tööriist, mis võimaldab kriteeriumi täitmist kontrollida (vajadus toodi välja läbivalt kõigis uuringu etappides). Praegu toovad kriteeriumi nii tooraine pakkujad, toitlustajad kui mõjuhinnangus osalenud eksperdid välja riskantsena. Vältimaks probleeme kohaliku toodangu tarnekindlusega, on pakutud sõnastuses seatud osakaal 20%. Kriteeriumit võib kohustuslikuna sätestada aastast 2030, ent selle eelduseks on tööriista keskne loomine. Kriteeriumiga peaks kaasnema teatud paindlikkus, kui osakaalu pole võimalik täita (lisatud kriteeriumi kirjeldusse). Mõjuhinnangus ja ümarlaudadel toodi välja, et vajalik võib olla täiendav toetus, kuna nähakse ette hinnatõusu (kohalikud tooted on ligikaudu 15% kallimad). Nõue võib vähendada pakutavate puuviljade mitmekesisust, kuna kohalike toodete valik on piiratum ning nende toiteväärtus ei pruugi alati olla võrreldav mõne teise välismaise tootega. Tehnilises kirjelduses saab täpsustada, et pakutavad marjad võivad olla ka külmutatud. Suur negatiivne mõju oleks tarnekindlusele (mediaan -2,5), keskmine kuni suur negatiivne mõju halduskoormusele ja toidu hinnale (mediaan -2). Keskmine positiivne mõju oleks kohalike tootjate tuludele ja põllumajandustootjate mitmekesisusele ning töökohtade loomisele (mediaan 2). Tervisele ja elurikkusele oleks väike kuni keskmine positiivne mõju (mediaan 1,5). | N5: Esitatud osakaalu ja dokumentide kontroll | O5: Kontrollija: hankija. Aeg: lepingu täitmise ajal. Tõend: esialgu pakkuja esitatud dokumentide (saatelehed, arved jms) alusel, hiljem lühikese tarneteekonnaga toodete osakaalu arvestamise tööriistast väljavõte lühikese tarneteekonnaga/hooajalise tooraine/toidu osakaalu kohta ja võimalusel ka tooraine päritolu/tarneteekonna kohta. | P5: Ühtne tööriist vajab väljatöötamist | Q5: 3
A6: 5 | B6: Toit + teenus | C6: Lühike tarneteekond | D6: 20% pakutavatest köögi- ja kaunviljadest [toidukaupade loetelu määratleb avaliku sektori hankija soovitatavalt turu-uuringu alusel – nt tomat, kurk, paprika, lillkapsas, kartul, kõrvits, porgand, kapsas, peet, kaalikas, põlduba, hernes, läätsed] peavad olema lühikese tarneteekonnaga (arvutatuna kõigi määratletud köögiviljade üldkogusest/väärtusest). Hankija määrab, kas osakaalu arvutatakse mahu või väärtuse alusel. Lühikese tarneteekonna all peab tellija silmas kuni 450 km teekonda maanteid pidi tellija asukohast. Pakkuja esitab pakkumuses kirjelduse toorainest, mille puhul ta tagab lühikese tarneteekonna ning kuidas ta seda tõendab. Toidutooraine hankimisel on võimalik lühikese tarneteekonnaga tooraine osakaalu arvutada loodava tööriista alusel. Lühikese tarnepiirkonna arvestus toimub köögiviljade, puuviljade, marjade, seemnete, juurviljade, kaunviljade ja kartuli osas sellest piirkonnast (väikseim võimalik haldusüksus), kus vastav taim ja/või selle viljad/seemned kasvasid ja teraviljatoodete puhul piirkonnast, kus toode valmistati. Lühike tarneteekond võib olla pikem juhul, kui toiduaineid ei ole võimalik soetada keskkondlikust, majanduslikust või epideemilisest olukorrast lähtuvalt ning teenuse osutaja on selliste asenduseks valitud toiduained ning selle kasutamise eelnevalt hankijaga kokku leppinud. | E6: Tehnilise kirjelduse nõue | F6: K30 | G6: K30 | H6: K30 | I6: K30 | J6: S30 | K6: K30 | L6: K30 | M6: Selleks, et 450 km teekonna ja osakaalu arvutamise nõue oleks hankijatele ja pakkujatele väiksema halduskoormusega, on vaja välja töötada ühtne lühikese tarneteekonnaga toodete osakaalu arvutamise tööriist, mis võimaldab kriteeriumi täitmist kontrollida (vajadus toodi välja läbivalt kõigis uuringu etappides). Praegu toovad kriteeriumi nii tooraine pakkujad, toitlustajad kui mõjuhinnangus osalenud eksperdid välja riskantsena. Vältimaks probleeme kohaliku toodangu tarnekindlusega, on pakutud sõnastuses seatud osakaal 20%. Kriteeriumit võib kohustuslikuna sätestada aastast 2030, ent selle eelduseks on tööriista keskne loomine. Kriteeriumiga peaks kaasnema teatud paindlikkus, kui osakaalu pole võimalik täita (lisatud kriteeriumi kirjeldusse). Mõjuhinnangus ja ümarlaudadel toodi välja, et vajalik võib olla täiendav toetus, kuna nähakse ette hinnatõusu (kohalikud tooted on ligikaudu 15% kallimad). Nõue võib vähendada pakutavate puuviljade mitmekesisust, kuna kohalike toodete valik on piiratum ning nende toiteväärtus ei pruugi alati olla võrreldav mõne teise välismaise tootega. Tehnilises kirjelduses saab täpsustada, et pakutavad marjad võivad olla ka külmutatud. Suur negatiivne mõju oleks tarnekindlusele (mediaan -2,5), keskmine kuni suur negatiivne mõju halduskoormusele ja toidu hinnale (mediaan -2). Keskmine positiivne mõju oleks kohalike tootjate tuludele ja põllumajandustootjate mitmekesisusele ning töökohtade loomisele (mediaan 2). Tervisele ja elurikkusele oleks väike kuni keskmine positiivne mõju (mediaan 1,5). | N6: Esitatud osakaalu ja dokumentide kontroll | O6: Kontrollija: hankija. Aeg: lepingu täitmise ajal. Tõend: esialgu pakkuja esitatud dokumentide (saatelehed, arved jms) alusel, hiljem lühikese tarneteekonnaga toodete osakaalu arvestamise tööriistast väljavõte lühikese tarneteekonnaga/hooajalise tooraine/toidu osakaalu kohta ja võimalusel ka tooraine päritolu/tarneteekonna kohta. | P6: Ühtne tööriist vajab väljatöötamist | Q6: 3.5
A7: 6 | B7: Toit + teenus | C7: Lühike tarneteekond | D7: Toidu valmistamisel kasutatavad toiduained [piimatooted, teraviljatooted ja veiseliha] peavad olema lühikese tarneteekonnaga (olema maksimaalse teekonnaga kuni 450 km tarbimispaigast maanteid pidi). Lühikese tarnepiirkonna arvestus toimub järgnevalt: - liha ja loomsete toodete (munad) osas mõeldakse piirkonda, kus loom ja/või lind kasvas ja/või tapeti ning munad koguti; - kala ja mereandide osas piirkonda, kus kala vm mereand püüti/kasvatati; - piima- ja teraviljatoodete osas piirkonda, kus toode valmistati; - köögivilja, puuvilja, marjade, seemnete, juurviljade, kaunviljade ja kartuli osas piirkonda, kus vastav taim ja/või selle viljad/seemned kasvasid. Piirkond tähendab kriteeriumi kontekstis väikseimat võimalikku haldusüksust. Lühike tarneteekond võib olla pikem juhul, kui toiduaineid ei ole võimalik soetada keskkondlikust, majanduslikust või epideemilisest olukorrast lähtuvalt ning teenuse osutaja on selliste asenduseks valitud toiduained ning selle kasutamise eelnevalt hankijaga kokku leppinud. | E7: Tehnilise kirjelduse nõue | F7: K30 | G7: K30 | H7: K30 | I7: K30 | J7: S30 | K7: K30 | L7: K30 | M7: Turuanalüüsist tulenevalt on lühiajalises perspektiivis võimalik kohalikku toorainet küsida piima- ning teraviljatoodete ja veiseliha puhul. Ajas kasvavalt saab seda teha kartuli, lamba-, kitse- ja linnuliha ja munade hankimises. Peamine probleem seisneb kriteeriumi kontrollitavuses ja avaliku sektori tarbimismahtude ülevaate puudumises, mis aitaks tooraine piisavust täpsemalt hinnata. Seega on kriteeriumi kõige varem võimalik kasutusele võtta 2030, kui need probleemid on lahendatud. Siiski peaks kriteeriumiga kaasnema teatud paindlikkus, kui osakaalu pole võimalik täita (lisatud kriteeriumi kirjeldusse). Määruse (EL) nr 1337/2013 alusel töötlemata sea-, lamba-, kitse- ja kodulinnuliha päritoluriigi või lähtekoha esitamise nõude alusel võib lihatoodetele seada kriteeriumit ka varasemalt (selles uuringus soovituslik). Mõjuhinnangus leiti, et kriteeriumil on keskmine kuni suur negatiivne mõju halduskoormusele (mediaan -2,5) ning keskmine negatiivne mõju tarnekindlusele ja toidu hinnale (mediaan -2). Keskmine positiivne mõju oleks kohalike tootjate tuludele ja põllumajandustootjate mitmekesisusele (mediaan 2). Töökohtade loomisele, elurikkusele ja loomade heaolule hinnati väike positiivne mõju (mediaan 1). Seejuures mõjuhinnangus hinnati mõju teraviljade, mitte teraviljatoodete osas ja seda, kas arvestust peetakse toiduainete kasvatamise või tootmise kohast, täpsustati töö hilisemas etapis. | N7: Dokumentide kontroll | O7: Kontrollija: hankija. Aeg: lepingu täitmise ajal. Tõend: esialgu pakkuja esitatud dokumentide (saatelehed, arved jms) alusel, hiljem lühikese tarneteekonnaga toodete osakaalu arvestamise tööriistast väljavõte tooraine päritolu/tarneteekonna kohta. | P7: Ühtne tööriist vajab väljatöötamist | Q7: 1.5
A8: 7 | B8: Toit + teenus | C8: Tootmisviis | D8: X% pakutavatest kanamunadest ei tohi olla märgistatud EL määruse nr 589/2008 koodiga 3 – puuris peetavate kanade munad. | E8: Tehnilise kirjelduse nõue | F8: S27 | G8: S27 | H8: S27 | I8: S27 | J8: S27 | K8: K30 | L8: K30 | M8: Ekspertide hinnangul võiks 2027. aastast kõigile sektoritele kehtestada kriteeriumi 80–100% ulatuses ning 2030. aastast 100%. Kuigi toetus kriteeriumile on suur, ei ole turg valmis lühiajalises perspektiivis küllaldases koguses tarnima. Seega soovitame kriteeriumi 2027. aastast kasutada soovituslikuna ning kehtestada see sektoritele kohustuslikuna järkjärguliselt. Keskmine negatiivne mõju tarnekindlusele ja toidu hinnale (mediaan -2), kuid suur positiivne mõju loomade heaolule (mediaan 3). Halduskoormusele oleks väike kuni keskmine negatiivne mõju (mediaan -1,5). Kohalike tootjate tuludele kaasneks väike kuni keskmine positiivne mõju (mediaan 1,5) ning põllumajandustootjate mitmekesisusele, töökohtade loomisele, tervisele ja elurikkusele oleks väike positiivne mõju (mediaan 1). | N8: Saatelehtede ja/või arvete alusel + pisteline kontroll. | O8: Kontrollija: hankija. Aeg: lepingu ajal pisteliselt. Tõend: arved ja saatelehed (munade tootmisviisi kood); lisaks pisteline kohapealne kontroll pakendi märgistuse alusel. | P8: N/A | Q8: 3
A9: 8 | B9: Toit | C9: Tootmisviis | D9: Troopilised puuviljad peavad olema mahetoodang või pärit õiglasest kaubandusest, millel on spetsiaalne sertifikaat või logo, mis tõendab tootja kuulumist mitme osapoole algatustesse, nagu Fairtrade Labelling Organizations (FLO-cert), World Fairtrade Organization (WFTO) või samaväärsed. | E9: Tehnilise kirjelduse nõue | F9: S27 | G9: S27 | H9: S27 | I9: S27 | J9: S27 | K9: S27 | L9: K27 | M9: Globaalse toidusüsteemi keskkonna- ja sotsiaalmajandusliku mõju vähendamiseks | N9: Märgise kontroll | O9: Kontrollija: hankija. Aeg: pakkumuste hindamisel; lepingu ajal pisteliselt. Tõend: kehtiv mahe- või õiglase kaubanduse märgis/sertifikaat (FLO-cert, WFTO või samaväärne). | P9: https://www.flocert.net/fairtrade-customer-search/
A10: 9 | B10: Teenus | C10: Tootmisviis | D10: Kui teenuse pakkumisel kasutatakse troopilisi puuvilju, siis need peavad olema kas mahetoodang või pärit õiglasest kaubandusest, millel on spetsiaalne sertifikaat või logo, mis tõendab tootja kuulumist mitme osapoole algatustesse, nagu Fairtrade Labelling Organizations (FLO-cert), World Fairtrade Organization (WFTO) või samaväärsed. | E10: Tehnilise kirjelduse nõue | F10: S27 | G10: S27 | H10: S27 | I10: S27 | K10: S27 | L10: S27 | M10: Globaalse toidusüsteemi keskkonna- ja sotsiaalmajandusliku mõju vähendamiseks | N10: Märgise kontroll | O10: Kontrollija: hankija. Aeg: pakkumuste hindamisel; lepingu ajal pisteliselt. Tõend: kehtiv mahe- või õiglase kaubanduse märgis/sertifikaat (FLO-cert, WFTO või samaväärne). | P10: https://www.flocert.net/fairtrade-customer-search/
A11: 10 | B11: Teenus | C11: Ringsus | D11: Pakkuja kogub hankelepingu vältel söögisaali ja/või köögi ruumides eraldi biojäätmed, klaasi, paberi/papi, pakendi ja segaolmejäätmed ning viib iga liigi eraldi vastavasse prügikonteinerisse. Pakkuja tagab toitlustavates ruumides jäätmete liigiti kogumise võimalikkuse, paigaldades selleks söögisaali või muusse tihedalt läbikäidavasse kohta eraldi märgistatud prügikastid segaolmejäätmete, klaasi, paberi/papi, biojäätmete ja pakendi sortimiseks. | E11: Tehnilise kirjelduse nõue | F11: K27 | G11: K27 | H11: K27 | I11: K27 | K11: K27 | L11: K27 | M11: Jäätmetekke vähendamise nõue. Kriteeriumile on üldine toetus. | N11: Kohapealne kontroll | O11: Kontrollija: hankija/asutuse esindaja. Aeg: lepingu ajal etteteatamata, pisteliselt. Tõend: kohapealse kontrolli tulemus (jäätmete liigiti kogumise korraldus söögisaalis ja köögis). | P11: N/A
A12: 11 | B12: Teenus | C12: Ringsus | D12: Toidujäätmete koguste ja tekkeallikate väljaselgitamiseks mõõdab pakkuja vähemalt üks kord aastas ühe nädala jooksul järgmisi toidujäätmete liike: - köögikadu – toidu valmistamisel tekkiv kadu (nt koored, kondid, aegunud tooraine); - serveerimiskadu – serveeritud toit, mis ei jõudnud tarbijani (nt serveerimisnõusse jäänud toit); - taldrikukadu – toit, mida tarbija ei söö ära (nt joomata jäänud piim, poolik kotlet, alles jäänud kartul). Mõõtmistulemuste alusel kavandab või uuendab pakkuja tegevused toidujäätmete tekke vähendamiseks (nt planeerimis- või serveerimispraktika muutmine, teadlikkuse tõstmine, toidu ümberjagamine või annetamine jms). Hankija sellekohase soovi korral peab teenuse osutaja esitama kirjaliku dokumendi, milles kirjeldatakse parimaid tavasid, mida ollakse toidujäätmete vältimiseks ja vähendamiseks vastu võtnud. Dokumendiga koos esitatakse ka mõõtmistulemused. Haiglate puhul on lubatud ka visuaalsed vaatlused (vt rohkem haiglate alalehelt). | E12: Tehnilise kirjelduse nõue | F12: K27 | G12: K27 | H12: K27 | I12: K27 | K12: S27 | L12: K27 | M12: Toidujäätmete vältimine ja vähendamine kogu tarneahelas. Kriteeriumile on üldine toetus. | N12: Esitatud dokumentide kontroll kord aastas. | O12: Kontrollija: hankija. Aeg: lepingu ajal kord aastas. Tõend: pakkuja esitatud mõõtmistulemused ning toidujäätmete vähendamise tegevuskava / parimate tavade kirjeldus. | P12: N/A
A13: 12 | B13: Toit + teenus | C13: Ringsus | D13: X toiduainete puhul [toidukaupade loetelu määrab kindlaks avaliku sektori hankija - nt piim] kasutatakse suurpakendeid (hankija defineerib). | E13: Tehnilise kirjelduse nõue | F13: S27 | G13: S27 | K13: S27 | M13: Jäätmetekke vähendamise nõue. Kriteeriumile on üldine toetus. | N13: Kohapealne kontroll | O13: Kontrollija: hankija/asutuse esindaja. Aeg: lepingu ajal etteteatamata, pisteliselt. Tõend: kohapealse kontrolli tulemus (suurpakendite kasutamine kokkulepitud toiduainete puhul). | P13: N/A
A14: 13 | B14: Toit | C14: Ringsus | D14: Vähendamaks pakendite hulka tarnitava toidu koguse kohta tuleb toiduainete tarnel kasutada vähemalt ühte järgmistest nõuetest (hankija valib): a) kasutada tuleb korduskasutatavaid transpordipakendeid (nt kastid, kaubaalused), mis kuuluvad korduskasutussüsteemi (vastavalt EL pakendimääruse 2025/40 artiklile 11); b) X toidukategooria puhul (hankija määratleb) tuleb kasutada suurpakendeid ja c) X toidukategooria puhul (hankija määratleb) ei ole lubatud tarnida portsjonpakendeid (ühekaupa pakendatud tooted); d) (hankija saab valida alates 2030) kasutada tuleb pakendeid, mis kuuluvad ringlussevõetavuse klassi A, B või C (vastavalt EL pakendimääruse 2025/40 II lisa tabelile 3). | E14: Tehnilise kirjelduse nõue | F14: K27 | G14: K27 | H14: K27 | I14: K27 | J14: K27 | K14: K27 | L14: K27 | M14: Jäätmetekke vähendamise nõue. Kriteeriumile on üldine toetus. | N14: Kohapealne kontroll | O14: Kontrollija: hankija/asutuse esindaja. Aeg: lepingu ajal etteteatamata, pisteliselt tarnete saabumisel. Tõend: kohapealse kontrolli tulemus (pakendite vastavus keskkonnahoidlikkuse nõuetele). | P14: N/A
A15: 14 | B15: Teenus | C15: Muu | D15: Kätepesuks, nõudepesuks ja igapäevaseks puhastamiseks kasutatavad tooted peavad vastama konkreetse toote ELi ökomärgise nõuetele või samaväärsetele nõuetele. | E15: Tehnilise kirjelduse nõue | F15: K27 | G15: K27 | H15: K27 | I15: K27 | K15: K27 | L15: K27 | M15: Ohtlike ainete vältimine | N15: Pisteline kohapealne kontroll + märgise olemasolu tootel | O15: Kontrollija: hankija/asutuse esindaja. Aeg: lepingu ajal etteteatamata, pisteliselt. Tõend: ELi ökomärgise (või samaväärse) olemasolu tootel; kohapealse kontrolli tulemus. | P15: N/A
A16: 15 | B16: Teenus | C16: Muu | D16: Köögis kasutatav pehmepaber (nt köögipaberirullid) peab vastama konkreetse toote ELi ökomärgise nõuetele või samaväärsetele nõuetele. | E16: Tehnilise kirjelduse nõue | F16: K27 | G16: K27 | H16: K27 | I16: K27 | K16: K27 | L16: K27 | M16: Laiem positiivne keskkonnamõju. | N16: Pisteline kohapealne kontroll + märgise olemasolu tootel | O16: Kontrollija: hankija/asutuse esindaja. Aeg: lepingu ajal etteteatamata, pisteliselt. Tõend: ELi ökomärgise (või samaväärse) olemasolu tootel; kohapealse kontrolli tulemus. | P16: N/A
A17: 16 | B17: Toit | C17: Mahetooraine | D17: Mahetoidu pakutav osakaal X% (nt 20%) peab hõlmama vähemalt järgmisi toidugruppe: [toidukaupade loetelu määrab kindlaks avaliku sektori hankija – nt teraviljatooted, puuviljad, marjad, veiseliha, kaunviljad, köögiviljad, piimatooted] | E17: Tehnilise kirjelduse nõue | H17: S30 | K17: S30 | L17: S30 | M17: Soovitame toiduainegruppide kaupa mahekriteeriumi rakendamist alates 2030. aastast sektoritele, kus on suuremad hankemahud ja hanked on jagatud toiduainegruppide alusel osadeks. | N17: Mahetoodangu märgis | O17: Kontrollija: hankija. Aeg: pakkumuste hindamisel; lepingu ajal pisteliselt toidugruppide lõikes. Tõend: kehtiv mahetoodangu märgis või samaväärne tõend. | P17: https://webgate.ec.europa.eu/tracesnt/directory/publication/organic-operator/index#!?sort=-issuedOn&countryCode=EE&showAdvancedSearch https://portaal.agri.ee/avalik/#/mahe
A18: 17 | B18: Teenus | C18: Taimetoit | D18: Menüü peab sisaldama iga päev valikuna/alternatiivina taimset põhitoitu, kus on vastavalt toitumissoovitustele tagatud piisava köögivilja ja valgu osakaal (nt kaunviljade pakkumise kaudu). Taimetoidu all mõeldakse toitu, kus peamine valguallikas on taimne. Taimetoit võib, aga ei pea sisaldama muna- ja piimatooteid. | E18: Tehnilise kirjelduse nõue | G18: K27 | K18: S27, K30 | L18: K27 | M18: Ekspertpaneel leidis, et taimne toit võiks olla igapäevaselt kättesaadav juhul, kui selle kõrval on võimalik valida ka teistsugune põhitoit. | N18: Menüüde alusel + pisteline kohapealne kontroll asutuse esindajate poolt | O18: Kontrollija: hankija/asutuse esindaja. Aeg: lepingu ajal regulaarselt menüüde esitamisel; lisaks pisteline kohapealne kontroll. Tõend: menüüd ja retseptid. | P18: N/A
A19: 18 | B19: Toit + teenus | C19: Energia | D19: Lõpptarneks kasutatavad sõidukid peavad vastama vähemalt EURO5/V heitmestandardile. | E19: Tehnilise kirjelduse nõue | F19: S27 | G19: S27 | H19: S27 | I19: S27 | J19: S27 | K19: S27 | L19: S27 | M19: Võimaldab valida keskkonnahoidlikumat teenusepakkujat. | N19: Kauba/toidu tarnel kontrollida sertifikaati | O19: Kontrollija: hankija/asutuse esindaja. Aeg: lepingu ajal tarnete saabumisel, pisteliselt. Tõend: sõiduki EURO5/V vastavussertifikaat või registreerimistunnistus. | P19: https://eteenindus.mnt.ee/public/soidukTaustakontroll.jsf
A20: 19 | B20: Toit + teenus | C20: Tootmisviis/Lühike tarneteekond | D20: Liha peab pärinema loomadelt, keda on tapale veetud mitte kauem kui kaheksa tundi. Veoaeg on aeg, mis kulub saadetise jõudmiseks lähtepunktist sihtkohta, sealhulgas peale- ja mahalaadimine. Kui lähimasse tapamajja veoaeg ületab kaheksa tundi, võib sigade ja veiste puhul üksikjuhtudel veoaega pikendada maksimaalselt kolme tunni võrra, kui sõiduk vastab vähemalt järgmistele pikamaaveo tingimustele: Loomadele peab olema juurdepääs kontrollimiseks. Transpordi ajal peab loomadele olema võimalik vett anda. Sõidukis peab olema rahuldav ventilatsiooni- ja temperatuuri reguleerimise süsteem, mida saab reguleerida vastavalt sise- ja välistemperatuurile. Sõidukis peavad olema vaheseinad loomade vajadustele vastavate eraldi sektsioonide loomiseks. Loomade mugavuse tagamiseks peab olema piisavalt allapanu. Linnuliha puhul ei tohi tapale transportimisest olla möödunud rohkem kui 12 tundi, kaasa arvatud peale- ja mahalaadimine. Pimedal ajal toimuvate üle kaheksa tunni kestvate vedude korral peab sõidukil olema ka seadmed, mis võimaldavad ventilatsiooni ja temperatuuri reguleerida nii sise- kui ka välistemperatuurile. | E20: Tehnilise kirjelduse nõue | F20: S30 | G20: S30 | H20: S30 | I20: S30 | J20: S30 | K20: S30 | L20: S30 | M20: Soovituslik tuleviku kriteerium, kuna kontrollimehhanism vajab väljatöötamist. | N20: Vajab väljatöötamist. | O20: Kontrollija: täpsustamisel – eeldab ühtse tõendusvormi loomist (vt aruande ptk 6). Kuni selle loomiseni: hankija, pakkuja esitatud päritoludokumentide alusel. | P20: N/A
A21: 20 | B21: Toit + teenus | C21: Tootmisviis | D21: Kui menüüs pakutakse kala/mereande, peab pakkuja tagama, et need pärinevad kestlikest varudest või vastavad tunnustatud kestlikkuse standardile (MSC, ASC või samaväärsele tõendusele). MSC - säästva kalanduse märgis loodusest kasvanud kala puhul, ASC - säästva kalanduse märgis vesiviljelussaadustele. | E21: Tehnilise kirjelduse nõue | F21: S27 | G21: S27 | H21: S27 | L21: S27 | M21: Toetab kestlikku kalandust. Võib mõjutada hinda. | N21: MSC, ASC märgise kontroll | O21: Kontrollija: hankija. Aeg: pakkumuste hindamisel pakkuja esitatud kinnitusdokumentide alusel; lepingu ajal pisteliselt. Tõend: kehtiv MSC/ASC märgis või samaväärne kestlikkuse tõend. | P21: https://cert.msc.org/SupplierDirectory/VController.aspx?Path=02D03D11-054D-44F5-9076-B1BD00A2EBDF https://fisheries.msc.org/en/fisheries/@@search https://asc-aqua.org/find-a-supplier/ https://asc-aqua.org/find-a-product/
A22: 21 | B22: Toit + teenus | C22: Tootmisviis | D22: Tarnija kohustub lepingu algusest peale tarnima ainult selliseid kala- ja/või koorikloomatooteid, mis ei pärine liikidest ja/või varudest, mis on nimekirjas, ressursiülevaates või muus sarnases dokumendis (nt Eesti Kalafoor), mis kajastab kalavarude seisundit erinevates püügipiirkondades ja/või vesiviljelustavade keskkonnamõju, hinnatud punaseks või haavatavaks. Nimekirjas või ressursiülevaates esitatud hinnang võib looduslike liikide puhul sisaldada näiteks järgmisi parameetreid: varu, suurus, paljunemisvõime, püügisurve, majandamine. Vesiviljelusliikide puhul: sööda kasutamine, kemikaalide kasutamine. Hankija otsustab lepingu kehtivusaja aluse, st nimekirja, ressursiülevaate vms. Lepingu tingimuse aluseks on järgmine nimekiri või ressursiülevaade: [Eesti Kalafoor]. Hankija teavitab tarnijat ajakohastatud versioonist, kui märgitud nimekirja või ressursiülevaadet lepingu kehtivusaja jooksul ajakohastatakse. Punaseks märgitud või haavatavaks hinnatud kala- ja/või koorikloomavarusid võidakse ajakohastamise ajal nimekirja või ülevaatesse lisada või sealt kustutada. Tarnija peab ajakohastatud versiooni rakendama hiljemalt [30] päeva jooksul alates teavitamisest. | E22: Tehnilise kirjelduse nõue | F22: S27 | G22: S27 | H22: S27 | K22: S27 | L22: S27 | M22: Toetab kestlikku kalandust, sh kohalikku tootjat. Samas toob kaasa mõningase halduskoormuse kasvu (Kalafoori kasutamine). | N22: Kalafoor | O22: Kontrollija: hankija. Aeg: lepingu ajal regulaarselt, sh nimekirja ajakohastamisel. Tõend: tarnitud kala-/koorikloomatoodete võrdlus kokkulepitud ressursiülevaatega (nt Eesti Kalafoor) arvete ja saatelehede alusel. | P22: https://kalafoor.ee/
A23: 22 | B23: Toit + teenus | C23: Õiglane kaubandus | D23: Pakutud toodetes kasutatud palmiõli peab olema sertifitseeritud jätkusuutlik palmiõli (RSPO standard või samaväärne). | E23: Tehnilise kirjelduse nõue | F23: S30 | G23: S30 | H23: S30 | I23: S30 | J23: S30 | K23: S30 | L23: S30 | M23: Globaalse toidusüsteemi keskkonna- ja sotsiaalmajandusliku mõju vähendamiseks | N23: Märgise kontroll | O23: Kontrollija: hankija. Aeg: pakkumuste hindamisel pakkuja esitatud kinnitusdokumentide alusel; lepingu ajal pisteliselt. Tõend: kehtiv RSPO (või samaväärne) sertifikaat/märgis. | P23: https://rspo.org/search-members/ https://rspo.org/as-an-organisation/marketplace/
A24: 23 | B24: Toit | C24: Päritolu läbipaistvus | D24: Taimse tooraine puhul peab tooraine või toote põhikoostisosa teave päritoluriigi(de) ja piirkonna (väikseim võimalik haldusüksus) kohta olema kättesaadav. Pakkuja peab lepingu kehtivusaja jooksul selle info nõudmisel esitama. Teave peab sisaldama riigi(d), kus toorainet töödeldi (töödeldud tooraine puhul) või kasvatati (töötlemata toidu puhul). Taimse tooraine alla kuuluvad teraviljatooted, köögiviljad, puuviljad, marjad, seemned, juurviljad, kaunviljad ja kartul. Teraviljatoodete puhul tuleb nõudmisel esitada toote valmistamise koht ning köögiviljade, puuviljade, marjade, seemnete, juurviljade, kaunviljade ja kartuli osas vastava taime ja/või selle viljade/seemnete kasvatamise koht. | F24: K27 | G24: K27 | H24: K27 | I24: K27 | J24: K27 | K24: K27 | L24: K27 | M24: Kriteerium on eelduseks lühikese tarneteekonna kriteeriumide rakendamiseks. | N24: Pisteline teabe esitamise nõue (nt arved, saatelehed ja e-veoselehed). | O24: Kontrollija: hankija. Aeg: lepingu ajal pisteliselt või kord aastas. Tõend: arved, saatelehed, e-veoselehed päritoluriigi teabega (sh alltöövõtjate/tarnijate kohta). | P24: https://waybiller.com/et/
A25: 24 | B25: Teenus | C25: Muu | D25: Koostöös haridusasutustega peab pakkuja välja töötama toiduhariduslike tegevuste kava, mis sisaldab tegevuste lühikirjeldust koos eeldatava toimumisajaga, kaasatavaid sihtrühmi (õpilased, õpetajad jt kooliga seotud sihtrühmad) ning tegevusteks vajalikke ressursse (sh tööaeg) (tehnilise kirjelduse nõue VÕI X lisapunkti hindamiskriteeriumina). Võimalusel pakutakse külastusi farmi/tootmiskohta X korral VÕI X lisapunkti, kui pakutakse külastusi farmi/tootmiskohta X korral. | E25: Tehnilise kirjelduse nõue/ hindamiskriteerium | F25: K27 | G25: K27 | M25: Toiduhariduse edendamine. Parandab tulevaste generatsioonide teadlikkust kestlikust ja tervislikust toitumisest ning seeläbi võib mõjutada ka nende harjumusi edaspidises elus. | N25: Pakkuja esitab pakkumises dokumendi. Lepingu täitmise ajal annab tellijale tegevustest teada. | O25: Kontrollija: hankija. Aeg: pakkumuste hindamisel; lepingu ajal tegevuste toimumisel. Tõend: toiduhariduslike tegevuste kava ning teavitused tegevuste elluviimise kohta. | P25: N/A
A26: 25 | B26: Teenus | C26: Ringsus | D26: Toidujäätmete vältimise ja vähendamise alast teadlikkust suurendavate meetmete kasutuselevõtt annab lisapunkte järgmiselt: Teavitusmeede – X lisapunkti, laste kaasamine tegevusse – X lisapunkti; Kokkuleppe sõlmimine toidupanga või mõne muu sarnase organisatsiooniga, kellele saab annetada ohutu toidu ülejäägi (st toiduohutuse nõudeid arvestades), annab täiendavalt X punkti. | E26: Hindamiskriteerium | F26: S27 | G26: S27 | M26: Toidujäätmete vältimine ja vähendamine kogu tarneahelas ja toiduhariduse edendamine. Kriteeriumile on üldine toetus. | N26: Pakkuja esitab kord aastas ülevaate nõuetele vastavusest. | O26: Kontrollija: hankija. Aeg: lepingu ajal kord aastas. Tõend: pakkuja esitatud ülevaade nõuetele vastavusest (sh kokkulepe toidupangaga, teavitusmeetmete ja laste kaasamise kirjeldus). | P26: N/A
A27: 26 | B27: Teenus | C27: Taimetoit | D27: Hinnatakse toidu valmistamiseks kasutatavate taimsete valgurikaste toiduainete (eelkõige kaunviljad) mahu ja/või sageduse protsenti. Kõrgeim protsent saab X hindepunkti, iga järgnev protsent X hindepunkti vähem. Taimetoidu all mõeldakse toitu, kus peamine valguallikas on taimne. Taimetoit võib, aga ei pea sisaldama muna- ja piimatooteid. | E27: Hindamiskriteerium | F27: S27 | G27: S27 | H27: S27 | I27: S27 | K27: S27 | L27: S27 | M27: Tuleneb vajadusest suurendada taimetoidu osakaalu inimeste toitumises. Ekspertpaneeli üksmeelne toetus. | N27: Menüüde alusel + pisteline kohapealne kontroll asutuse esindajate poolt | O27: Kontrollija: hankija/asutuse esindaja. Aeg: pakkumuste hindamisel (osakaalu hindamine); lepingu ajal menüüde alusel ja pisteliselt kohapeal. Tõend: menüüd ja retseptid; kohapealse kontrolli tulemus. | P27: N/A
A28: 27 | B28: Toit + teenus | C28: Lühike tarneteekond | D28: X lisapunkti, kui tootmine, töötlemine, tarne on ühes piirkonnas (teekonnaga kuni 450 km tellija asukohast maanteid pidi, võimalusel esitada teave väiksema võimaliku haldusüksuse alusel) ja pakkuja on võimeline kogu tarneahela läbipaistvust tagama (nt kasutades toidujälgitavuse tarkvara). Vähem punkte, kui läbipaistvus on tagatud vaid ühe/eelneva etapi osas. | E28: Hindamiskriteerium | F28: S27 | G28: S27 | H28: S27 | I28: S27 | J28: S27 | K28: S27 | L28: S27 | M28: Soovituslik, kuna tõendamine võib osutuda keerukaks. | N28: Vajab väljatöötamist. | O28: Kontrollija: hankija, pakkuja esitatud päritoludokumentide/tõendusmaterjali alusel. | P28: N/A
A29: 28 | B29: Toit | C29: Tootmisviis | D29: Tootja pakutav toode käesolevas hankes kuulub riikliku kvaliteedikava nimistusse (tehnilise kirjelduse nõue VÕI X lisapunkti hindamiskriteeriumina). | E29: Tehnilise kirjelduse nõue/ hindamiskriteerium | F29: S30 | G29: S30 | H29: S30 | I29: S30 | K29: S30 | L29: S30 | M29: Tulevikus (kui kvaliteedikavasid on loodud rohkem) võimalik kombineerida mahenõudega (paindlikkusmehhanismina valida üks kahest). | N29: Sertifikaat, vastavust tõendav dokument (kontrolli tulem) või töödeldud toote lõpptoote märgistus. | O29: Kontrollija: hankija/asutuse esindaja. Aeg: pakkumuste hindamisel. Tõend: sertifikaat, vastavust tõendav dokument (kontrolli tulem) või töödeldud toote lõpptoote märgistus. | P29: N/A
A30: 29 | B30: Toit | C30: Tootmisviis | D30: Tootja saab keskkonnasõbraliku majandamise või samaväärset toetust (tehnilise kirjelduse nõue VÕI X lisapunkti hindamiskriteeriumina). | E30: Tehnilise kirjelduse nõue/ hindamiskriteerium | F30: S27 | G30: S27 | H30: S27 | I30: S27 | J30: S27 | K30: S27 | L30: S27 | M30: Soodustab kohalike tootjate osalemist/eelistamist hangetes. | N30: Päringu alusel PRIA-st | O30: Kontrollija: hankija (registripäring PRIA-st). Aeg: pakkumuste hindamisel ja kord aastas lepingu ajal. Tõend: registrikanne keskkonnasõbraliku majandamise toetuse saamise kohta. | P30: https://www.pria.ee/toetused/keskkonnasobraliku-majandamise-toetus-2026 - päringu alusel
A31: 30 | B31: Teenus | C31: Muu | D31: X lisapunkti, kui kord kahe kuu jooksul tehakse mõni menüü SchoolFood4Change retseptiraamatust. Kättesaadav siin: https://zenodo.org/records/22145098 | E31: Hindamiskriteerium | F31: S27 | G31: S27 | M31: Soodustab tervist toetavate ja kestlike toitumisharjumuste kujunemist. | N31: Toitlustaja teavitus ja menüü kontroll | O31: Kontrollija: hankija/asutuse esindaja. Aeg: lepingu ajal regulaarselt (vähemalt kord kahe kuu jooksul) toitlustaja teavituse ja menüüde esitamisel. Tõend: toitlustaja teavitus ja menüüd. | P31: N/A
A32: 31 | B32: Teenus | C32: Ringsus | D32: Koolipäeva kahel viimasel tunnil ei ole kahe sooja toidu valiku pakkumine kohustuslik ning lubatud on pakkuda ka ühte valikut. | E32: Hindamiskriteerium | G32: S27 | M32: Toidujäätmete vältimine ja vähendamine kogu tarneahelas. Kriteeriumile on üldine toetus. | N32: Kohapealne pisteline kontroll | O32: Kontrollija: hankija/asutuse esindaja. Aeg: lepingu ajal etteteatamata, pisteliselt (koolipäeva viimastel tundidel). Tõend: kohapealse kontrolli tulemus. | P32: N/A
A33: 32 | B33: Teenus | C33: Ringsus | D33: Vähemalt kord nädalas pakutakse pähkleid ja/või seemneid lapse/noore/õpilase kohta minimaalselt 40 g nädalas. Salati koostisosad, seemned, pähklid, salatikastmed jms lisandid serveerida eraldi. | E33: Tehnilise kirjelduse nõue | F33: K27 | G33: K27 | K33: S27 | M33: Toidujäätmete vältimine ja vähendamine kogu tarneahelas. Kriteeriumile on üldine toetus. | N33: Kohapealne pisteline kontroll | O33: Kontrollija: hankija/asutuse esindaja. Aeg: lepingu ajal etteteatamata, pisteliselt. Tõend: kohapealse kontrolli tulemus (lisandite eraldi serveerimine). | P33: N/A
A34: 33 | B34: Teenus | C34: Muu | D34: Puhvetis pakutav kaup vastab Tervise Arengu Instituudi juhendile "Soovitused lasteasutuste puhvetitele". Muule avalikule sektorile ei kehti soovitused kohvi ja tee osas. | E34: Tehnilise kirjelduse nõue | G34: K27 | L34: S27 | M34: Tervist toetava toitumise edendamine. | N34: Pisteline kohapealne kontroll | O34: Kontrollija: hankija/asutuse esindaja. Aeg: lepingu ajal etteteatamata, pisteliselt. Tõend: kohapealse kontrolli tulemus (puhveti sortimendi vastavus TAI soovitustele). | P34: N/A
A35: 34 | B35: Teenus | C35: Taimetoit | D35: Pakkuja pakub kõigile patsientidele ja töötajatele kord nädalas taimset lõuna- ja/või õhtusööki, kus on vastavalt riiklikele liikumis- ja toitumissoovitustele tagatud piisava köögivilja ja valgu osakaal. Lisaks saavad patsiendid soovi korral valida taimetoidumenüü kogu haiglas viibimise ajaks. Taimetoidu all mõeldakse toitu, kus peamine valguallikas on taimne. Taimetoit võib, aga ei pea sisaldama muna- ja piimatooteid. | E35: Tehnilise kirjelduse nõue | H35: S27 | M35: Tuleneb vajadusest suurendada taimetoidu osakaalu inimeste toitumises. Ekspertpaneeli üksmeelne toetus. | N35: Menüüde alusel + pisteline kohapealne kontroll asutuse esindajate poolt | O35: Kontrollija: hankija/asutuse esindaja. Aeg: lepingu ajal regulaarselt menüüde esitamisel; lisaks pisteline kohapealne kontroll. Tõend: menüüd ja retseptid; kohapealse kontrolli tulemus. | P35: N/A
A36: 35 | B36: Teenus | C36: Ringsus | D36: Kasutada tuleb korduskasutatavaid nõusid (jaotusköögi nõud, serveerimis- ja lauanõud, söögiriistad jms). | E36: Tehnilise kirjelduse nõue | F36: K27 | G36: K27 | H36: K27 | I36: K27 | L36: K27 | M36: Jäätmetekke vähendamise nõue. | N36: Kohapealne pisteline kontroll | O36: Kontrollija: hankija/asutuse esindaja. Aeg: lepingu ajal etteteatamata, pisteliselt. Tõend: kohapealse kontrolli tulemus (korduskasutatavate nõude kasutamine). | P36: N/A
A37: 36 | B37: Teenus | C37: Õiglane kaubandus | D37: Vähemalt X% (avaliku sektori hankija määrab osakaalu, nt 50%) kogu ostetud kohvist ja/või teest ja/või kakaost on Fairtrade ja/või mahe. Pakkuja esitab pakkumuses: 1) kirjelduse tootest/toodetest, mille puhul nõue tagatakse; 2) selgituse, kui suure osakaalu moodustavad need eelmainitud toode/tooted kogu toitlustusteenusel kasutatavatest toodetest (kohv, tee, kakao). | E37: Tehnilise kirjelduse nõue | H37: S27 | K37: S27 | L37: S27 | M37: Globaalse toidusüsteemi keskkonna- ja sotsiaalmajandusliku mõju vähendamiseks | N37: Pakkuja esitab pakkumuses tingimustele vastavate toodete osakaalu. Lepingu täitmisel kontrollib tellija arvete/saatelehede alusel või märgise olemasolu tootel. | O37: Kontrollija: hankija. Aeg: pakkumuste hindamisel (osakaal pakkumuses); lepingu ajal pisteliselt. Tõend: arved ja saatelehed või märgise olemasolu tootel (Fairtrade või samaväärne), Fairtrade register. | P37: https://www.flocert.net/fairtrade-customer-search/
